!table
!version 300
!charset WindowsCyrillic

Definition Table
  File "маями_2006.bmp"
  Type "RASTER"
  (6760,10330) (8463,10022) Label "Точка 1",
  (1433.58,9250.790000000001) (1239,11502) Label "Точка 2",
  (3068.85,12268.43) (3446,7395) Label "Точка 3",
  (5779.98,13959.719999999999) (7126,5094) Label "Точка 4",
  (4194.03,9522.26) (4984,11133) Label "Точка 5",
  (3085.52,9975.6) (3476,10508) Label "Точка 6",
  (3425.6,9406.379999999999) (3941,11285) Label "Точка 7",
  (4055.07,5876.19) (4803,16082) Label "Точка 8",
  (3615.65,6980.32) (4204,14576) Label "Точка 9",
  (5752.52,15602.950000000001) (7086,2851) Label "Точка 10",
  (5684.08,15626.200000000001) (6992,2819) Label "Точка 11",
  (5470.39,15699.23) (6702,2721) Label "Точка 12",
  (5464.74,15701.41) (6697,2719) Label "Точка 13",
  (2360.9,10541.6) (2494,9750) Label "Точка 14",
  (5723.58,16986.189999999999) (7046,975) Label "Точка 15",
  (625.75,5690.52) (157,16349) Label "Точка 16",
  (890.15,5739.06) (513,16279) Label "Точка 17",
  (2749.54,5805.48) (3034,16190) Label "Точка 18",
  (3980.7,10175.08) (4691,10235) Label "Точка 19",
  (4000.56,10382.809999999999) (4718,9953) Label "Точка 20",
  (5131.48,12857.99) (6247,6596) Label "Точка 21",
  (4933.31,12475.24) (5980,7123) Label "Точка 22",
  (4897.9,12466.139999999999) (5931,7136) Label "Точка 23",
  (4895.45,12476.200000000001) (5928,7120) Label "Точка 24",
  (4558.64,12012.91) (5471,7749) Label "Точка 25",
  (4830.21,12482.559999999999) (5839,7111) Label "Точка 26",
  (2292.78,7377.29) (2403,13929) Label "Точка 27"
  CoordSys NonEarth
  Units "m"
  Units "m"
  RasterStyle 1 43
  RasterStyle 2 66
  RasterStyle 7 0
  RasterStyle 8 153
